BEGIN:VCALENDAR
VERSION:2.0
PRODID:-//AEEN - ECPv6.15.20//NONSGML v1.0//EN
CALSCALE:GREGORIAN
METHOD:PUBLISH
X-ORIGINAL-URL:https://www.aeen.pt
X-WR-CALDESC:Eventos para AEEN
REFRESH-INTERVAL;VALUE=DURATION:PT1H
X-Robots-Tag:noindex
X-PUBLISHED-TTL:PT1H
BEGIN:VTIMEZONE
TZID:Europe/Lisbon
BEGIN:DAYLIGHT
TZOFFSETFROM:+0000
TZOFFSETTO:+0100
TZNAME:WEST
DTSTART:20210328T010000
END:DAYLIGHT
BEGIN:STANDARD
TZOFFSETFROM:+0100
TZOFFSETTO:+0000
TZNAME:WET
DTSTART:20211031T010000
END:STANDARD
BEGIN:DAYLIGHT
TZOFFSETFROM:+0000
TZOFFSETTO:+0100
TZNAME:WEST
DTSTART:20220327T010000
END:DAYLIGHT
BEGIN:STANDARD
TZOFFSETFROM:+0100
TZOFFSETTO:+0000
TZNAME:WET
DTSTART:20221030T010000
END:STANDARD
BEGIN:DAYLIGHT
TZOFFSETFROM:+0000
TZOFFSETTO:+0100
TZNAME:WEST
DTSTART:20230326T010000
END:DAYLIGHT
BEGIN:STANDARD
TZOFFSETFROM:+0100
TZOFFSETTO:+0000
TZNAME:WET
DTSTART:20231029T010000
END:STANDARD
BEGIN:DAYLIGHT
TZOFFSETFROM:+0000
TZOFFSETTO:+0100
TZNAME:WEST
DTSTART:20240331T010000
END:DAYLIGHT
BEGIN:STANDARD
TZOFFSETFROM:+0100
TZOFFSETTO:+0000
TZNAME:WET
DTSTART:20241027T010000
END:STANDARD
END:VTIMEZONE
BEGIN:VEVENT
DTSTART;TZID=Europe/Lisbon:20230220T000000
DTEND;TZID=Europe/Lisbon:20230221T000000
DTSTAMP:20260421T131815
CREATED:20230123T115457Z
LAST-MODIFIED:20230123T143639Z
UID:5091-1676851200-1676937600@www.aeen.pt
SUMMARY:Interrupção [Carnaval]
DESCRIPTION:Interrupção (CARNAVAL)
URL:https://www.aeen.pt/evento/interrupcao-carnaval/
CATEGORIES:Férias
END:VEVENT
BEGIN:VEVENT
DTSTART;TZID=Europe/Lisbon:20230130T000000
DTEND;TZID=Europe/Lisbon:20230202T000000
DTSTAMP:20260421T131815
CREATED:20230123T115922Z
LAST-MODIFIED:20230123T115922Z
UID:5130-1675036800-1675296000@www.aeen.pt
SUMMARY:Avaliação do 1.º Semestre
DESCRIPTION:Avaliação do 1.º Semestre
URL:https://www.aeen.pt/evento/avaliacao-do-1-o-semestre/
CATEGORIES:Avaliação
END:VEVENT
BEGIN:VEVENT
DTSTART;TZID=Europe/Lisbon:20230103T000000
DTEND;TZID=Europe/Lisbon:20230104T000000
DTSTAMP:20260421T131815
CREATED:20230123T115922Z
LAST-MODIFIED:20230123T115922Z
UID:5129-1672704000-1672790400@www.aeen.pt
SUMMARY:Reinicio de Aulas
DESCRIPTION:Reinicio de Aulas
URL:https://www.aeen.pt/evento/reinicio-de-aulas/
CATEGORIES:Agenda
END:VEVENT
BEGIN:VEVENT
DTSTART;TZID=Europe/Lisbon:20230101T000000
DTEND;TZID=Europe/Lisbon:20230101T235900
DTSTAMP:20260421T131815
CREATED:20230123T115455Z
LAST-MODIFIED:20230125T143659Z
UID:5088-1672531200-1672617540@www.aeen.pt
SUMMARY:Ano Novo
DESCRIPTION:Feriado (Ano Novo)
URL:https://www.aeen.pt/evento/feriado-ano-novo/
CATEGORIES:Feriados
END:VEVENT
BEGIN:VEVENT
DTSTART;TZID=Europe/Lisbon:20221225T000000
DTEND;TZID=Europe/Lisbon:20221225T235900
DTSTAMP:20260421T131815
CREATED:20230123T115455Z
LAST-MODIFIED:20230125T143737Z
UID:5089-1671926400-1672012740@www.aeen.pt
SUMMARY:Natal
DESCRIPTION:Feriado (Natal)
URL:https://www.aeen.pt/evento/feriado-natal/
CATEGORIES:Feriados
END:VEVENT
BEGIN:VEVENT
DTSTART;TZID=Europe/Lisbon:20221223T000000
DTEND;TZID=Europe/Lisbon:20221223T235900
DTSTAMP:20260421T131815
CREATED:20230123T115922Z
LAST-MODIFIED:20230125T143642Z
UID:5128-1671753600-1671839940@www.aeen.pt
SUMMARY:Interrupção Férias de Natal
DESCRIPTION:Interrupção Férias de Natal
URL:https://www.aeen.pt/evento/interrupcao-ferias-de-natal/
CATEGORIES:Férias
END:VEVENT
BEGIN:VEVENT
DTSTART;TZID=Europe/Lisbon:20221221T000000
DTEND;TZID=Europe/Lisbon:20221221T235900
DTSTAMP:20260421T131815
CREATED:20230123T115922Z
LAST-MODIFIED:20230125T143510Z
UID:5127-1671580800-1671667140@www.aeen.pt
SUMMARY:Conselho Pedagógico
DESCRIPTION:Conselho Pedagógico
URL:https://www.aeen.pt/evento/conselho-pedagogico-5/
CATEGORIES:Reuniões
END:VEVENT
BEGIN:VEVENT
DTSTART;TZID=Europe/Lisbon:20221208T000000
DTEND;TZID=Europe/Lisbon:20221208T235900
DTSTAMP:20260421T131815
CREATED:20230123T115454Z
LAST-MODIFIED:20230125T143922Z
UID:5086-1670457600-1670543940@www.aeen.pt
SUMMARY:Imaculada Conceição
DESCRIPTION:FERIADO (Imaculada Conceição)
URL:https://www.aeen.pt/evento/feriado-imaculada-conceicao/
CATEGORIES:Feriados
END:VEVENT
BEGIN:VEVENT
DTSTART;TZID=Europe/Lisbon:20221201T000000
DTEND;TZID=Europe/Lisbon:20221201T235900
DTSTAMP:20260421T131815
CREATED:20230123T115455Z
LAST-MODIFIED:20230125T143846Z
UID:5087-1669852800-1669939140@www.aeen.pt
SUMMARY:Restauração da Independência
DESCRIPTION:FERIADO (Restauração da Independência)
URL:https://www.aeen.pt/evento/feriado-restauracao-da-independencia/
CATEGORIES:Feriados
END:VEVENT
END:VCALENDAR