BEGIN:VCALENDAR
VERSION:2.0
PRODID:-//AEEN - ECPv6.15.20//NONSGML v1.0//EN
CALSCALE:GREGORIAN
METHOD:PUBLISH
X-ORIGINAL-URL:https://www.aeen.pt
X-WR-CALDESC:Eventos para AEEN
REFRESH-INTERVAL;VALUE=DURATION:PT1H
X-Robots-Tag:noindex
X-PUBLISHED-TTL:PT1H
BEGIN:VTIMEZONE
TZID:Europe/Lisbon
BEGIN:DAYLIGHT
TZOFFSETFROM:+0000
TZOFFSETTO:+0100
TZNAME:WEST
DTSTART:20210328T010000
END:DAYLIGHT
BEGIN:STANDARD
TZOFFSETFROM:+0100
TZOFFSETTO:+0000
TZNAME:WET
DTSTART:20211031T010000
END:STANDARD
BEGIN:DAYLIGHT
TZOFFSETFROM:+0000
TZOFFSETTO:+0100
TZNAME:WEST
DTSTART:20220327T010000
END:DAYLIGHT
BEGIN:STANDARD
TZOFFSETFROM:+0100
TZOFFSETTO:+0000
TZNAME:WET
DTSTART:20221030T010000
END:STANDARD
BEGIN:DAYLIGHT
TZOFFSETFROM:+0000
TZOFFSETTO:+0100
TZNAME:WEST
DTSTART:20230326T010000
END:DAYLIGHT
BEGIN:STANDARD
TZOFFSETFROM:+0100
TZOFFSETTO:+0000
TZNAME:WET
DTSTART:20231029T010000
END:STANDARD
BEGIN:DAYLIGHT
TZOFFSETFROM:+0000
TZOFFSETTO:+0100
TZNAME:WEST
DTSTART:20240331T010000
END:DAYLIGHT
BEGIN:STANDARD
TZOFFSETFROM:+0100
TZOFFSETTO:+0000
TZNAME:WET
DTSTART:20241027T010000
END:STANDARD
END:VTIMEZONE
BEGIN:VEVENT
DTSTART;TZID=Europe/Lisbon:20230719T000000
DTEND;TZID=Europe/Lisbon:20230720T000000
DTSTAMP:20260421T100359
CREATED:20230123T115909Z
LAST-MODIFIED:20230123T115909Z
UID:5124-1689724800-1689811200@www.aeen.pt
SUMMARY:Provas
DESCRIPTION:Provas
URL:https://www.aeen.pt/evento/provas-2/
CATEGORIES:Agenda
END:VEVENT
BEGIN:VEVENT
DTSTART;TZID=Europe/Lisbon:20230704T000000
DTEND;TZID=Europe/Lisbon:20230708T000000
DTSTAMP:20260421T100359
CREATED:20230123T115909Z
LAST-MODIFIED:20230123T115909Z
UID:5123-1688428800-1688774400@www.aeen.pt
SUMMARY:Provas
DESCRIPTION:Provas
URL:https://www.aeen.pt/evento/provas/
CATEGORIES:Agenda
END:VEVENT
BEGIN:VEVENT
DTSTART;TZID=Europe/Lisbon:20230630T000000
DTEND;TZID=Europe/Lisbon:20230701T000000
DTSTAMP:20260421T100359
CREATED:20230123T115851Z
LAST-MODIFIED:20230123T115851Z
UID:5118-1688083200-1688169600@www.aeen.pt
SUMMARY:Fim de aulas - 1.º Ciclo / JI
DESCRIPTION:Fim de aulas – 1.º Ciclo / JI
URL:https://www.aeen.pt/evento/fim-de-aulas-1-o-ciclo-ji/
CATEGORIES:Agenda
END:VEVENT
BEGIN:VEVENT
DTSTART;TZID=Europe/Lisbon:20230619T000000
DTEND;TZID=Europe/Lisbon:20230704T000000
DTSTAMP:20260421T100359
CREATED:20230123T115909Z
LAST-MODIFIED:20230123T115909Z
UID:5122-1687132800-1688428800@www.aeen.pt
SUMMARY:Provas e Exames
DESCRIPTION:Provas e Exames
URL:https://www.aeen.pt/evento/provas-e-exames/
CATEGORIES:Agenda
END:VEVENT
BEGIN:VEVENT
DTSTART;TZID=Europe/Lisbon:20230616T000000
DTEND;TZID=Europe/Lisbon:20230617T000000
DTSTAMP:20260421T100359
CREATED:20230123T115908Z
LAST-MODIFIED:20230123T115908Z
UID:5121-1686873600-1686960000@www.aeen.pt
SUMMARY:Provas Finais
DESCRIPTION:Provas Finais
URL:https://www.aeen.pt/evento/provas-finais/
CATEGORIES:Agenda
END:VEVENT
BEGIN:VEVENT
DTSTART;TZID=Europe/Lisbon:20230615T000000
DTEND;TZID=Europe/Lisbon:20230616T000000
DTSTAMP:20260421T100359
CREATED:20230123T115852Z
LAST-MODIFIED:20230123T115852Z
UID:5120-1686787200-1686873600@www.aeen.pt
SUMMARY:Provas de Aferição - 2.º Ano
DESCRIPTION:Provas de Aferição – 2.º Ano
URL:https://www.aeen.pt/evento/provas-de-afericao-2-o-ano-2/
CATEGORIES:Agenda
END:VEVENT
BEGIN:VEVENT
DTSTART;TZID=Europe/Lisbon:20230614T000000
DTEND;TZID=Europe/Lisbon:20230615T000000
DTSTAMP:20260421T100359
CREATED:20230123T115851Z
LAST-MODIFIED:20230123T115851Z
UID:5117-1686700800-1686787200@www.aeen.pt
SUMMARY:Fim de aulas - 5.º | 7.º | 8.º |10.º
DESCRIPTION:Fim de aulas – 5.º | 7.º | 8.º |10.º
URL:https://www.aeen.pt/evento/fim-de-aulas-5-o-7-o-8-o-10-o/
CATEGORIES:Agenda
END:VEVENT
BEGIN:VEVENT
DTSTART;TZID=Europe/Lisbon:20230609T000000
DTEND;TZID=Europe/Lisbon:20230617T000000
DTSTAMP:20260421T100359
CREATED:20230123T115852Z
LAST-MODIFIED:20230123T115852Z
UID:5119-1686268800-1686960000@www.aeen.pt
SUMMARY:Avaliação do 2.º Semestre
DESCRIPTION:Avaliação do 2.º Semestre
URL:https://www.aeen.pt/evento/avaliacao-do-2-o-semestre/
CATEGORIES:Avaliação
END:VEVENT
BEGIN:VEVENT
DTSTART;TZID=Europe/Lisbon:20230608T000000
DTEND;TZID=Europe/Lisbon:20230609T000000
DTSTAMP:20260421T100359
CREATED:20230123T115759Z
LAST-MODIFIED:20230123T143542Z
UID:5115-1686182400-1686268800@www.aeen.pt
SUMMARY:Corpo de Deus
DESCRIPTION:FERIADO (Corpo de Deus)
URL:https://www.aeen.pt/evento/feriado-corpo-de-deus/
CATEGORIES:Feriados
END:VEVENT
BEGIN:VEVENT
DTSTART;TZID=Europe/Lisbon:20230607T000000
DTEND;TZID=Europe/Lisbon:20230608T000000
DTSTAMP:20260421T100359
CREATED:20230123T115851Z
LAST-MODIFIED:20230123T115851Z
UID:5116-1686096000-1686182400@www.aeen.pt
SUMMARY:Fim de aulas - 9.º | 11.º | 12.º
DESCRIPTION:Fim de aulas – 9.º | 11.º | 12.º
URL:https://www.aeen.pt/evento/fim-de-aulas-9-o-11-o-12-o/
CATEGORIES:Agenda
END:VEVENT
BEGIN:VEVENT
DTSTART;TZID=Europe/Lisbon:20230607T000000
DTEND;TZID=Europe/Lisbon:20230608T000000
DTSTAMP:20260421T100359
CREATED:20230123T115759Z
LAST-MODIFIED:20230123T115759Z
UID:5114-1686096000-1686182400@www.aeen.pt
SUMMARY:Provas de Aferição - 5.º e 8.º Anos
DESCRIPTION:Provas de Aferição – 5.º e 8.º Anos
URL:https://www.aeen.pt/evento/provas-de-afericao-5-o-e-8-o-anos-3/
CATEGORIES:Agenda
END:VEVENT
BEGIN:VEVENT
DTSTART;TZID=Europe/Lisbon:20230602T000000
DTEND;TZID=Europe/Lisbon:20230603T000000
DTSTAMP:20260421T100359
CREATED:20230123T115759Z
LAST-MODIFIED:20230123T115759Z
UID:5113-1685664000-1685750400@www.aeen.pt
SUMMARY:Provas de Aferição - 5.º e 8.º Anos
DESCRIPTION:Provas de Aferição – 5.º e 8.º Anos
URL:https://www.aeen.pt/evento/provas-de-afericao-5-o-e-8-o-anos-2/
CATEGORIES:Agenda
END:VEVENT
BEGIN:VEVENT
DTSTART;TZID=Europe/Lisbon:20230531T000000
DTEND;TZID=Europe/Lisbon:20230601T000000
DTSTAMP:20260421T100359
CREATED:20230123T115759Z
LAST-MODIFIED:20230123T115759Z
UID:5111-1685491200-1685577600@www.aeen.pt
SUMMARY:Conselho Pedagógico
DESCRIPTION:Conselho Pedagógico
URL:https://www.aeen.pt/evento/conselho-pedagogico-4/
CATEGORIES:Reuniões
END:VEVENT
BEGIN:VEVENT
DTSTART;TZID=Europe/Lisbon:20230516T000000
DTEND;TZID=Europe/Lisbon:20230527T000000
DTSTAMP:20260421T100359
CREATED:20230123T115759Z
LAST-MODIFIED:20230123T115759Z
UID:5112-1684195200-1685145600@www.aeen.pt
SUMMARY:Provas de Aferição - 5.º e 8.º Anos
DESCRIPTION:Provas de Aferição – 5.º e 8.º Anos
URL:https://www.aeen.pt/evento/provas-de-afericao-5-o-e-8-o-anos/
CATEGORIES:Agenda
END:VEVENT
BEGIN:VEVENT
DTSTART;VALUE=DATE:20230503
DTEND;VALUE=DATE:20230505
DTSTAMP:20260421T100359
CREATED:20230123T115720Z
LAST-MODIFIED:20230123T144313Z
UID:5100-1683072000-1683244799@www.aeen.pt
SUMMARY:Conselho Pedagógico
DESCRIPTION:Conselho Pedagógico
URL:https://www.aeen.pt/evento/conselho-pedagogico-3/
LOCATION:AEEN\, Avenida Rainha Dona Leonor\, Almada\, Setúbal\, 2809-009\, Portugal
CATEGORIES:Reuniões
ORGANIZER;CN="AEEN":MAILTO:geral@aeen.pt
END:VEVENT
BEGIN:VEVENT
DTSTART;TZID=Europe/Lisbon:20230502T000000
DTEND;TZID=Europe/Lisbon:20230512T000000
DTSTAMP:20260421T100359
CREATED:20230123T115719Z
LAST-MODIFIED:20230123T115719Z
UID:5099-1682985600-1683849600@www.aeen.pt
SUMMARY:Provas de Aferição - 2.º Ano
DESCRIPTION:Provas de Aferição – 2.º Ano
URL:https://www.aeen.pt/evento/provas-de-afericao-2-o-ano/
CATEGORIES:Agenda
END:VEVENT
BEGIN:VEVENT
DTSTART;TZID=Europe/Lisbon:20230501T000000
DTEND;TZID=Europe/Lisbon:20230502T000000
DTSTAMP:20260421T100359
CREATED:20230123T115719Z
LAST-MODIFIED:20230123T143438Z
UID:5098-1682899200-1682985600@www.aeen.pt
SUMMARY:Dia do Trabalhador
DESCRIPTION:FERIADO (Dia do Trabalhador)
URL:https://www.aeen.pt/evento/feriado-dia-do-trabalhador/
CATEGORIES:Feriados
END:VEVENT
BEGIN:VEVENT
DTSTART;TZID=Europe/Lisbon:20230425T000000
DTEND;TZID=Europe/Lisbon:20230425T235900
DTSTAMP:20260421T100359
CREATED:20230123T115719Z
LAST-MODIFIED:20230125T151431Z
UID:5097-1682380800-1682467140@www.aeen.pt
SUMMARY:Dia da Liberdade
DESCRIPTION:FERIADO (Dia da Liberdade)
URL:https://www.aeen.pt/evento/feriado-dia-da-liberdade/
CATEGORIES:Feriados
END:VEVENT
BEGIN:VEVENT
DTSTART;TZID=Europe/Lisbon:20230417T000000
DTEND;TZID=Europe/Lisbon:20230418T000000
DTSTAMP:20260421T100359
CREATED:20230123T115718Z
LAST-MODIFIED:20230123T115718Z
UID:5096-1681689600-1681776000@www.aeen.pt
SUMMARY:Reinicio das Aulas
DESCRIPTION:Reinicio das Aulas
URL:https://www.aeen.pt/evento/reinicio-das-aulas/
CATEGORIES:Agenda
END:VEVENT
BEGIN:VEVENT
DTSTART;TZID=Europe/Lisbon:20230406T000000
DTEND;TZID=Europe/Lisbon:20230407T000000
DTSTAMP:20260421T100359
CREATED:20230123T115459Z
LAST-MODIFIED:20230123T143625Z
UID:5095-1680739200-1680825600@www.aeen.pt
SUMMARY:Interrupção [Páscoa]
DESCRIPTION:Interrupção (Páscoa)
URL:https://www.aeen.pt/evento/interrupcao-pascoa/
CATEGORIES:Férias
END:VEVENT
BEGIN:VEVENT
DTSTART;TZID=Europe/Lisbon:20230403T000000
DTEND;TZID=Europe/Lisbon:20230406T000000
DTSTAMP:20260421T100359
CREATED:20230123T115459Z
LAST-MODIFIED:20230123T115459Z
UID:5094-1680480000-1680739200@www.aeen.pt
SUMMARY:Intercalares
DESCRIPTION:Intercalares
URL:https://www.aeen.pt/evento/intercalares/
CATEGORIES:Avaliações
END:VEVENT
BEGIN:VEVENT
DTSTART;TZID=Europe/Lisbon:20230329T000000
DTEND;TZID=Europe/Lisbon:20230330T000000
DTSTAMP:20260421T100359
CREATED:20230123T115458Z
LAST-MODIFIED:20230123T115458Z
UID:5093-1680048000-1680134400@www.aeen.pt
SUMMARY:Conselho Pedagógico
DESCRIPTION:Conselho Pedagógico
URL:https://www.aeen.pt/evento/conselho-pedagogico-2/
CATEGORIES:Reuniões
END:VEVENT
BEGIN:VEVENT
DTSTART;TZID=Europe/Lisbon:20230301T000000
DTEND;TZID=Europe/Lisbon:20230302T000000
DTSTAMP:20260421T100359
CREATED:20230123T115458Z
LAST-MODIFIED:20230123T115458Z
UID:5092-1677628800-1677715200@www.aeen.pt
SUMMARY:Conselho Pedagógico
DESCRIPTION:Conselho Pedagógico
URL:https://www.aeen.pt/evento/conselho-pedagogico/
CATEGORIES:Reuniões
END:VEVENT
BEGIN:VEVENT
DTSTART;VALUE=DATE:20230221
DTEND;VALUE=DATE:20230222
DTSTAMP:20260421T100359
CREATED:20230123T115455Z
LAST-MODIFIED:20230125T142458Z
UID:5090-1676937600-1677023999@www.aeen.pt
SUMMARY:Entrudo
DESCRIPTION:FERIADO (Entrudo)
URL:https://www.aeen.pt/evento/feriado-entrudo/
CATEGORIES:Feriados
END:VEVENT
BEGIN:VEVENT
DTSTART;TZID=Europe/Lisbon:20230220T000000
DTEND;TZID=Europe/Lisbon:20230221T000000
DTSTAMP:20260421T100359
CREATED:20230123T115457Z
LAST-MODIFIED:20230123T143639Z
UID:5091-1676851200-1676937600@www.aeen.pt
SUMMARY:Interrupção [Carnaval]
DESCRIPTION:Interrupção (CARNAVAL)
URL:https://www.aeen.pt/evento/interrupcao-carnaval/
CATEGORIES:Férias
END:VEVENT
BEGIN:VEVENT
DTSTART;TZID=Europe/Lisbon:20230130T000000
DTEND;TZID=Europe/Lisbon:20230202T000000
DTSTAMP:20260421T100359
CREATED:20230123T115922Z
LAST-MODIFIED:20230123T115922Z
UID:5130-1675036800-1675296000@www.aeen.pt
SUMMARY:Avaliação do 1.º Semestre
DESCRIPTION:Avaliação do 1.º Semestre
URL:https://www.aeen.pt/evento/avaliacao-do-1-o-semestre/
CATEGORIES:Avaliação
END:VEVENT
BEGIN:VEVENT
DTSTART;TZID=Europe/Lisbon:20230103T000000
DTEND;TZID=Europe/Lisbon:20230104T000000
DTSTAMP:20260421T100359
CREATED:20230123T115922Z
LAST-MODIFIED:20230123T115922Z
UID:5129-1672704000-1672790400@www.aeen.pt
SUMMARY:Reinicio de Aulas
DESCRIPTION:Reinicio de Aulas
URL:https://www.aeen.pt/evento/reinicio-de-aulas/
CATEGORIES:Agenda
END:VEVENT
BEGIN:VEVENT
DTSTART;TZID=Europe/Lisbon:20230101T000000
DTEND;TZID=Europe/Lisbon:20230101T235900
DTSTAMP:20260421T100359
CREATED:20230123T115455Z
LAST-MODIFIED:20230125T143659Z
UID:5088-1672531200-1672617540@www.aeen.pt
SUMMARY:Ano Novo
DESCRIPTION:Feriado (Ano Novo)
URL:https://www.aeen.pt/evento/feriado-ano-novo/
CATEGORIES:Feriados
END:VEVENT
BEGIN:VEVENT
DTSTART;TZID=Europe/Lisbon:20221225T000000
DTEND;TZID=Europe/Lisbon:20221225T235900
DTSTAMP:20260421T100359
CREATED:20230123T115455Z
LAST-MODIFIED:20230125T143737Z
UID:5089-1671926400-1672012740@www.aeen.pt
SUMMARY:Natal
DESCRIPTION:Feriado (Natal)
URL:https://www.aeen.pt/evento/feriado-natal/
CATEGORIES:Feriados
END:VEVENT
BEGIN:VEVENT
DTSTART;TZID=Europe/Lisbon:20221223T000000
DTEND;TZID=Europe/Lisbon:20221223T235900
DTSTAMP:20260421T100359
CREATED:20230123T115922Z
LAST-MODIFIED:20230125T143642Z
UID:5128-1671753600-1671839940@www.aeen.pt
SUMMARY:Interrupção Férias de Natal
DESCRIPTION:Interrupção Férias de Natal
URL:https://www.aeen.pt/evento/interrupcao-ferias-de-natal/
CATEGORIES:Férias
END:VEVENT
END:VCALENDAR